BEGIN:VCALENDAR
VERSION:2.0
PRODID:-//ChamberMaster//Event Calendar 2.0//EN
METHOD:PUBLISH
X-PUBLISHED-TTL:P3D
REFRESH-INTERVAL:P3D
CALSCALE:GREGORIAN
BEGIN:VEVENT
DTSTART:20250819T180000Z
DTEND:20250819T220000Z
X-MICROSOFT-CDO-ALLDAYEVENT:FALSE
SUMMARY:ATSSA Flagger Certification Training
DESCRIPTION:Get Trained. Get Certified. Get to Work.\n\nJoin us for a full-day training to become a certified work zone flagger!\n\nLearn the skills needed to safely control traffic in construction zones and meet federal and state safety requirements.\n\n \n\nDate: TUES AUG 19TH \n\nTime: 8:00 AM   12:00 PM\n\nLocation: BIA Hawaii\, 94-487 Akoki St.\, Waipahu\, HI 96797\n\nCost: $150 (includes materials + certification)\n\n \n\nWhat You'll Learn:\n\n	MUTCD-compliant flagging procedures\n	Proper use of signs\, signals\, and hand tools\n	How to maintain safe traffic flow\n	Communication and coordination techniques\n	Real-world scenarios and safety drills\n\n \n\nCertification:\n\nUpon successful completion\, participants will receive an official ATTSA Flagger Certification Card\, valid for 4 years.\n\n \n\nIdeal For:\n\n\n	Construction & road workers\n	General laborers\n	Entry-level workforce & apprentices\n	Anyone seeking job-ready certification in traffic control
X-ALT-DESC;FMTTYPE=text/html:<strong><em>Get Trained. Get Certified. Get to Work.</em></strong><br />\n<strong>Join us for a full-day training to become a certified work zone flagger!</strong><br />\nLearn the skills needed to safely control traffic in construction zones and meet federal and state safety requirements.<br />\n&nbsp\;<br />\n<strong>Date: TUES AUG 19<sup>TH</sup> </strong><br />\n<strong>Time: 8:00 AM &ndash\; 12:00 PM</strong><br />\n<strong>Location: BIA Hawaii\, 94-487 Akoki St.\, Waipahu\, HI 96797</strong><br />\n<strong>Cost: $150 (includes materials + certification)</strong><br />\n&nbsp\;<br />\n<strong>What You&rsquo\;ll Learn:</strong>\n<ul>\n	<li>MUTCD-compliant flagging procedures</li>\n	<li>Proper use of signs\, signals\, and hand tools</li>\n	<li>How to maintain safe traffic flow</li>\n	<li>Communication and coordination techniques</li>\n	<li>Real-world scenarios and safety drills</li>\n</ul>\n&nbsp\;<br />\n<strong>Certification:</strong><br />\nUpon successful completion\, participants will receive an official <strong>ATTSA Flagger Certification Card</strong>\, valid for <strong>4 years</strong>.<br />\n&nbsp\;<br />\n<strong>Ideal For:</strong>\n\n<ul>\n	<li>Construction &amp\; road workers</li>\n	<li>General laborers</li>\n	<li>Entry-level workforce &amp\; apprentices</li>\n	<li>Anyone seeking job-ready certification in traffic control</li>\n</ul>\n
LOCATION:Location: BIA Hawaii\, 94-487 Akoki St.\, Waipahu\, HI 96797
UID:e.9314.887166
SEQUENCE:3
DTSTAMP:20260425T024159Z
URL:https://members.biahawaii.org/events/details/atssa-flagger-certification-training-887166
END:VEVENT

END:VCALENDAR
