BEGIN:VCALENDAR
VERSION:2.0
PRODID:-//ChamberMaster//Event Calendar 2.0//EN
METHOD:PUBLISH
X-PUBLISHED-TTL:P3D
REFRESH-INTERVAL:P3D
CALSCALE:GREGORIAN
BEGIN:VEVENT
DTSTART:20260112T180000Z
DTEND:20260115T020000Z
X-MICROSOFT-CDO-ALLDAYEVENT:FALSE
SUMMARY:ASSP Safety Management I
DESCRIPTION:Safety Management I\n2.1 CEUs\n\nCourse Description:\n\nStart your journey toward earning the ASSP Safety Management Certificate with Safety Management I\, the foundational course in this three-part certificate series. Designed for professionals with less than three years of experience in safety management or experienced individuals newly responsible for managing safety programs this course delivers a comprehensive introduction to the core principles of occupational safety and health (OSH) systems.\n\nThrough real-world case studies\, hands-on exercises\, and expert instruction\, you'll learn to:\n\n\n	Identify and implement essential elements of an effective safety management system\n	Write clear policy statements and performance standards\n	Create accountability structures and advocate for safety across your organization\n	Understand legal\, moral\, and financial responsibilities tied to workplace safety\n	Control workers' compensation costs and draft realistic safety budgets\n\n\nThis course lays the groundwork for the entire certificate program. Completion of Safety Management I is required to progress to the next course in the series.\n\n \nEarn the ASSP Safety Management Certificate\n\nThis course is part of the Safety Management Certificate Program offered by the American Society of Safety Professionals (ASSP).\n\nTo earn your certificate\, you must complete all three required courses within two years:\n\n\n	Safety Management I (January 12-14\, 2026)\n	Safety Management II (March 3-4\, 2026)\n	Corporate Safety Management (April 6 8\, 2026)\n\nUpon successful completion of the full program\, you'll receive the ASSP Safety Management Certificate\, professional certificate that demonstrates your knowledge of essential safety management principles and your commitment to professional growth in occupational safety and health (OSH).\n\nThis certificate is ideal for professionals who are:\n\n\n	New to safety management roles\n	Expanding their OSH responsibilities\n	Seeking to enhance their leadership and technical skills in safety program development and execution
X-ALT-DESC;FMTTYPE=text/html:<h3 data-end="211" data-start="120"><strong style="font-size: 13px\;"><span style="font-size:10.0pt\;">Safety Management I</span></strong></h3>\n<strong><span style="font-size:10.0pt\;">2.1 CEUs</span></strong><br />\n<strong><span style="font-size:10.0pt\;">Course Description:</span></strong><br />\n<span style="font-size:10.0pt\;">Start your journey toward earning the ASSP Safety Management Certificate with <strong>Safety Management I</strong>\, the foundational course in this three-part certificate series. Designed for professionals with less than three years of experience in safety management&mdash\;or experienced individuals newly responsible for managing safety programs&mdash\;this course delivers a comprehensive introduction to the core principles of occupational safety and health (OSH) systems.</span><br />\n<span style="font-size:10.0pt\;">Through real-world case studies\, hands-on exercises\, and expert instruction\, you&rsquo\;ll learn to:</span>\n\n<ul>\n	<li><span style="font-size:10.0pt\;">Identify and implement essential elements of an effective safety management system</span></li>\n	<li><span style="font-size:10.0pt\;">Write clear policy statements and performance standards</span></li>\n	<li><span style="font-size:10.0pt\;">Create accountability structures and advocate for safety across your organization</span></li>\n	<li><span style="font-size:10.0pt\;">Understand legal\, moral\, and financial responsibilities tied to workplace safety</span></li>\n	<li><span style="font-size:10.0pt\;">Control workers&rsquo\; compensation costs and draft realistic safety budgets</span></li>\n</ul>\n\n<div style="border:none\;border-bottom:solid windowtext 1.0pt\;padding:0in 0in 1.0pt 0in\;"><span style="font-size:10.0pt\;">This course lays the groundwork for the entire certificate program. Completion of Safety Management I is required to progress to the next course in the series.</span><br />\n&nbsp\;</div>\n<strong><span style="font-size:10.0pt\;">Earn the ASSP Safety Management Certificate</span></strong><br />\n<span style="font-size:10.0pt\;">This course is part of the <strong>Safety Management Certificate Program</strong> offered by the <strong>American Society of Safety Professionals (ASSP)</strong>.</span><br />\n<span style="font-size:10.0pt\;">To earn your certificate\, you must complete <strong>all three required courses within two years</strong>:</span>\n\n<ol>\n	<li><strong><span style="font-size:10.0pt\;">Safety Management I</span></strong><span style="font-size:10.0pt\;"> (January 12-14\, 2026)</span></li>\n	<li><strong><span style="font-size:10.0pt\;">Safety Management II</span></strong><span style="font-size:10.0pt\;"> (March 3-4\, 2026)</span></li>\n	<li><strong><span style="font-size:10.0pt\;">Corporate Safety Management</span></strong><span style="font-size:10.0pt\;"> (April 6&ndash\;8\, 2026)</span></li>\n</ol>\n<span style="font-size:10.0pt\;">Upon successful completion of the full program\, you&rsquo\;ll receive the <strong>ASSP Safety Management Certificate</strong>\, professional certificate that demonstrates your knowledge of essential safety management principles and your commitment to professional growth in occupational safety and health (OSH).</span><br />\n<span style="font-size:10.0pt\;">This certificate is ideal for professionals who are:</span>\n\n<ul>\n	<li><span style="font-size:10.0pt\;">New to safety management roles</span></li>\n	<li><span style="font-size:10.0pt\;">Expanding their OSH responsibilities</span></li>\n	<li><span style="font-size:10.0pt\;">Seeking to enhance their leadership and technical skills in safety program development and execution</span></li>\n</ul>\n
LOCATION:BIA Hawaii
UID:e.9314.887042
SEQUENCE:3
DTSTAMP:20260424T125106Z
URL:https://members.biahawaii.org/events/details/assp-safety-management-i-887042
END:VEVENT

END:VCALENDAR
