BEGIN:VCALENDAR
VERSION:2.0
PRODID:-//ChamberMaster//Event Calendar 2.0//EN
METHOD:PUBLISH
X-PUBLISHED-TTL:P3D
REFRESH-INTERVAL:P3D
CALSCALE:GREGORIAN
BEGIN:VEVENT
DTSTART:20251209T170000Z
DTEND:20251210T020000Z
X-MICROSOFT-CDO-ALLDAYEVENT:FALSE
SUMMARY:40-Hour EM 385-1-1 Safety and Occupational Health Requirements Training
DESCRIPTION:This comprehensive 40-hour training provides essential safety and health instruction based on the U.S. Army Corps of Engineers (USACE) EM 385-1-1 Safety and Health Requirements Manual\, used across federal and military construction projects.  Participants will learn to:  Recognize and prevent workplace hazards on construction and industrial sites.  Understand federal safety and health regulations applicable to USACE and NAVFAC projects.  Implement safe work practices and procedures in compliance with EM 385-1-1.  Complete required safety documentation and reporting.  Who Should Attend: Construction workers\, supervisors\, safety officers\, and anyone assigned to work on USACE or NAVFAC projects.  Training Details:  Duration: 40 hours (5 days)  Format: In-person classroom and practical exercises  Prerequisites: None\, but participants should be prepared for full-day sessions  Certificate: Participants receive a USACE/NAVFAC-approved Certificate of Completion upon successful completion.
X-ALT-DESC;FMTTYPE=text/html:This comprehensive 40-hour training provides essential safety and health instruction based on the U.S. Army Corps of Engineers (USACE) EM 385-1-1 Safety and Health Requirements Manual\, used across federal and military construction projects.&nbsp\; Participants will learn to:&nbsp\; Recognize and prevent workplace hazards on construction and industrial sites.&nbsp\; Understand federal safety and health regulations applicable to USACE and NAVFAC projects.&nbsp\; Implement safe work practices and procedures in compliance with EM 385-1-1.&nbsp\; Complete required safety documentation and reporting.&nbsp\; Who Should Attend: Construction workers\, supervisors\, safety officers\, and anyone assigned to work on USACE or NAVFAC projects.&nbsp\; Training Details:&nbsp\; Duration: 40 hours (5 days)&nbsp\; Format: In-person classroom and practical exercises&nbsp\; Prerequisites: None\, but participants should be prepared for full-day sessions&nbsp\; Certificate: Participants receive a USACE/NAVFAC-approved Certificate of Completion upon successful completion.
LOCATION:BIA Hawaii 94-487 Akoki St Ste 213 2nd Floor Waipahu\, HI 96797
UID:e.9314.887194
SEQUENCE:3
DTSTAMP:20260424T142649Z
URL:https://members.biahawaii.org/events/details/40-hour-em-385-1-1-safety-and-occupational-health-requirements-training-887194
END:VEVENT

END:VCALENDAR
