BEGIN:VCALENDAR
VERSION:2.0
PRODID:-//ChamberMaster//Event Calendar 2.0//EN
METHOD:PUBLISH
X-PUBLISHED-TTL:P3D
REFRESH-INTERVAL:P3D
CALSCALE:GREGORIAN
BEGIN:VEVENT
DTSTART:20251204T210000Z
DTEND:20251205T000000Z
X-MICROSOFT-CDO-ALLDAYEVENT:FALSE
SUMMARY:2026 BIA Hawaii Installation
DESCRIPTION:Join us for the Building Industry Association of Hawai i's (BIA) annual event to formally install the 2026 President and Board of Directors and to honor the dedicated service of the outgoing leadership and outstanding members.\n\nThis is a premier gathering for the building and development community. A crucial time to acknowledge those who shape our industry and to network with the leaders who drive Hawai i's future.\nSponsorship Opportunities\n\nAlign your company with the BIA's mission and gain significant recognition by sponsoring this key event. Proceeds directly support BIA's educational programs and association initiatives.\n\n \n\n\n\n\nPresenting Sponsor   $25\,000 SOLD\n\nTake center stage as the exclusive Presenting Sponsor. Your support ensures that all proceeds directly advance BIA's membership and educational programs. This premier partnership offers unmatched visibility across every event touchpoint\, from invitations to opening remarks\, and positions your company as a leader committed to building Hawaii's future.\n\n\n\nCovers Expenses\n\n\n	Food and Venue\n	Program and entertainment\n	Sound and visuals\n	Theme and d cor\n	Professional photography\n	Gifts and benefits for other sponsors\n	Flowers and lei for award recipients\, incoming president\, board members\, officers\, Platinum sponsors\, VIPs\, and participants\n\nSponsorship Benefits\n\n\n\nSeating & Experience\n\n\n	8 guest seats (full table\, $1\,000 value)\n	VIP pre-event mixer with refreshments and pupus\n\nVisibility & Recognition\n\nRecognition provided on:\n\n	Event invitations\n	Event signage\n	Program announcements\n	BIA newsletter\n	Social media\n	Opening remarks\n\nSocial Media\n\n\n	4 dedicated Instagram posts (2 in November\, 2 in December\; content developed collaboratively)\n\n\n\n\nPlatinum Sponsor   $7\,500 (Limit 1)\n\nMake a lasting impression with the best seats in the house and premium visibility throughout the event. Platinum Sponsors enjoy luxury guest gifts\, a custom holiday floral centerpiece\, professional photography\, and exclusive access to the VIP pre-event mixer. Your brand will be prominently featured across event promotions\, social media\, and at the celebration itself\, creating the perfect blend of prestige and recognition.\n\n\n\nSponsorship Benefits\n\n\n\nSeating & Experience\n\n\n	8 guest seats (full table\, $1\,000 value)\n	Premium front-and-center seating with VIP escort\n	VIP pre-event mixer with refreshments and pupus\n\nGifts & Keepsakes\n\n\n	Elegant brunch for 2 at Orchids\, Halekulani ($250 value)\n	Big Island Candy gift box for each guest ($300 value)\n	Holiday floral centerpiece ($250 value)\n\nPhotography\n\n\n	Group photo at sponsor table\n	Group photo in front of Christmas tree\n	Digital copies provided for personal and social media use\n\nVisibility & Recognition\n\nRecognition provided on:\n\n	Table signage (double-sided 8x10 branded sign)\n	Event signage\n	Program announcements\n	BIA newsletter\n	Social media\n	Opening remarks\n\nSocial Media\n\n\n	4 dedicated Instagram posts (2 in November\, 2 in December\; content developed collaboratively)\n\n\n\n\nGold Sponsor   $5\,000 (Limit 2)\n\nStep into the spotlight with the Gold Sponsorship. Treat your guests to a VIP experience with prime seating\, a festive centerpiece\, professional photos to capture the memories\, and access to sponsors' VIP pre-event mixer. Gain exposure before\, during\, and after the event through BIA's social media\, newsletter\, and event promotions\, showcasing your company as a valued community partner.\n\n\n\nSponsorship Benefits\n\n\n\nSeating & Experience\n\n\n	8 guest seats (full table\, $1\,000 value)\n	VIP escort to table\n	VIP pre-event mixer with refreshments and pupus\n\nGifts & Keepsakes\n\n\n	Big Island Candy gift box for each guest ($200 value)\n	Holiday floral centerpiece ($100 value)\n\nPhotography\n\n\n	Group photo at sponsor table\n	Group photo in front of Christmas tree\n	Digital copies provided for personal and social media use\n\nVisibility & Recognition\n\nRecognition provided on:\n\n	Table signage (double-sided 8x10 branded sign)\n	Event signage\n	Program announcements\n	BIA newsletter\n	Social media\n	Opening remarks\n\nSocial Media\n\n\n	2 dedicated Instagram posts (1 in November\, 1 in December\; content developed collaboratively)\n\n\n\n\nSilver Sponsor   $2\,500 (Limit 6)\n\nEnjoy the benefits of a full VIP table and exclusive access to the sponsors' VIP pre-event mixer while elevating your company's profile. Silver Sponsors receive professional photos and recognition across BIA's  event promotions and marketing channels\, creating both an engaging guest experience and meaningful brand exposure.\n\n\n\nSponsorship Benefits\n\n\n\nSeating & Experience\n\n\n	8 guest seats (full table\, $1\,000 value\, courtesy of Presenting Sponsor)\n	VIP escort to table\n	VIP pre-event mixer with refreshments and pupus\n\nPhotography\n\n\n	Group photo at sponsor table\n	Group photo in front of Christmas tree\n	Digital copies provided for personal and social media use\n\nVisibility & Recognition\n\nRecognition provided on:\n\n	Table signage (branded table sign)\n	Event signage\n	Program announcements\n	BIA newsletter\n	Social media\n	Opening remarks\n\nSocial Media\n\n\n	1 dedicated Instagram post (content developed collaboratively)\n\n\n\n\nBronze Sponsor   $1\,000 (Unlimited)\n\nSupport the event\, showcase your brand and receive reserved seating\, entry to the sponsors' VIP pre-event mixer\, and acknowledgement across BIA's marketing channels\, making a Bronze sponsorship a cost-effective way to align your brand with Hawaii's building industry leaders.\n\n\n\nSponsorship Benefits\n\n\n\nSeating & Experience\n\n\n	4 guest seats (half table\, $500 value)\n	Volunteer escort to table\n	VIP pre-event mixer with refreshments and pupus\n\nVisibility & Recognition\n\nRecognition provided in:\n\n	Program announcements\n	BIA newsletter\n	Opening remarks
X-ALT-DESC;FMTTYPE=text/html:<p>Join us for the <b>Building Industry Association of Hawai&#699\;i&#39\;s (BIA)</b> annual event to formally install the <b>2026 President and Board of Directors</b> and to honor the dedicated service of the outgoing leadership and outstanding members.</p>\n\n<p>This is a premier gathering for the building and development community. A&nbsp\;crucial time to acknowledge those who shape our industry and to network with the leaders who drive Hawai&#699\;i&#39\;s future.</p>\n<strong><u>Sponsorship Opportunities</u></strong><br />\nAlign your company with the BIA&#39\;s mission and gain significant recognition by sponsoring this key event. Proceeds directly support BIA&#39\;s educational programs and association initiatives.<br />\n&nbsp\;\n<div align="center" style="text-align:center\;">\n<hr align="center" size="2" width="100%" /></div>\n<br />\n<strong>Presenting Sponsor &ndash\; $25\,000 SOLD</strong><br />\nTake center stage as the exclusive Presenting Sponsor. Your support ensures that all proceeds directly advance BIA&rsquo\;s membership and educational programs. This premier partnership offers unmatched visibility across every event touchpoint\, from invitations to opening&nbsp\;remarks\, and positions your company as a leader committed to building Hawaii&rsquo\;s future.<br />\n<br />\n<strong>Covers Expenses</strong>\n\n<ul>\n	<li>Food and Venue</li>\n	<li>Program and entertainment</li>\n	<li>Sound and visuals</li>\n	<li>Theme and d&eacute\;cor</li>\n	<li>Professional photography</li>\n	<li>Gifts and benefits for other sponsors</li>\n	<li>Flowers and lei for award recipients\, incoming president\, board members\, officers\, Platinum sponsors\, VIPs\, and participants</li>\n</ul>\n<strong>Sponsorship Benefits</strong><br />\n<br />\n<u>Seating &amp\; Experience</u>\n\n<ul>\n	<li>8 guest seats (full table\, $1\,000 value)</li>\n	<li>VIP pre-event mixer with refreshments and pupus</li>\n</ul>\n<u>Visibility &amp\; Recognition</u><br />\nRecognition provided on:\n<ul>\n	<li>Event invitations</li>\n	<li>Event signage</li>\n	<li>Program announcements</li>\n	<li>BIA newsletter</li>\n	<li>Social media</li>\n	<li>Opening remarks</li>\n</ul>\n<u>Social Media</u>\n\n<ul>\n	<li>4 dedicated Instagram posts (2 in November\, 2 in December\; content developed collaboratively)</li>\n</ul>\n\n<hr /><br />\n<strong>Platinum Sponsor &ndash\; $7\,500 (Limit 1)</strong><br />\nMake a lasting impression with the best seats in the house and premium visibility throughout the&nbsp\;event. Platinum Sponsors enjoy luxury guest gifts\, a custom holiday floral centerpiece\, professional photography\, and exclusive access to the VIP pre-event mixer. Your brand will be prominently featured across&nbsp\;event promotions\, social media\, and at the celebration itself\, creating the perfect blend of prestige and&nbsp\;recognition.<br />\n<br />\n<strong>Sponsorship Benefits</strong><br />\n<br />\n<u>Seating &amp\; Experience</u>\n\n<ul>\n	<li>8 guest seats (full table\, $1\,000 value)</li>\n	<li>Premium front-and-center seating with VIP escort</li>\n	<li>VIP pre-event mixer with refreshments and pupus</li>\n</ul>\n<u>Gifts &amp\; Keepsakes</u>\n\n<ul>\n	<li>Elegant brunch for 2 at Orchids\, Halekulani ($250 value)</li>\n	<li>Big Island Candy gift box for each guest ($300 value)</li>\n	<li>Holiday floral centerpiece ($250 value)</li>\n</ul>\n<u>Photography</u>\n\n<ul>\n	<li>Group photo at sponsor table</li>\n	<li>Group photo in front of Christmas tree</li>\n	<li>Digital copies provided for personal and social media use</li>\n</ul>\n<u>Visibility &amp\; Recognition</u><br />\nRecognition provided on:\n<ul>\n	<li>Table signage (double-sided 8x10 branded sign)</li>\n	<li>Event signage</li>\n	<li>Program announcements</li>\n	<li>BIA newsletter</li>\n	<li>Social media</li>\n	<li>Opening remarks</li>\n</ul>\n<u>Social Media</u>\n\n<ul>\n	<li>4 dedicated Instagram posts (2 in November\, 2 in December\; content developed collaboratively)</li>\n</ul>\n\n<hr /><br />\n<strong>Gold Sponsor &ndash\; $5\,000 (Limit 2)</strong><br />\nStep into the spotlight with the Gold Sponsorship. Treat your guests to a VIP experience with prime&nbsp\;seating\, a festive centerpiece\, professional photos to capture the memories\, and access to sponsors&rsquo\; VIP&nbsp\;pre-event mixer. Gain exposure before\, during\, and after the event through BIA&rsquo\;s social media\, newsletter\,&nbsp\;and event promotions\, showcasing your company as a valued community partner.<br />\n<br />\n<strong>Sponsorship Benefits</strong><br />\n<br />\n<u>Seating &amp\; Experience</u>\n\n<ul>\n	<li>8 guest seats (full table\, $1\,000 value)</li>\n	<li>VIP escort to table</li>\n	<li>VIP pre-event mixer with refreshments and pupus</li>\n</ul>\n<u>Gifts &amp\; Keepsakes</u>\n\n<ul>\n	<li>Big Island Candy gift box for each guest ($200 value)</li>\n	<li>Holiday floral centerpiece ($100 value)</li>\n</ul>\n<u>Photography</u>\n\n<ul>\n	<li>Group photo at sponsor table</li>\n	<li>Group photo in front of Christmas tree</li>\n	<li>Digital copies provided for personal and social media use</li>\n</ul>\n<u>Visibility &amp\; Recognition</u><br />\nRecognition provided on:\n<ul>\n	<li>Table signage (double-sided 8x10 branded sign)</li>\n	<li>Event signage</li>\n	<li>Program announcements</li>\n	<li>BIA newsletter</li>\n	<li>Social media</li>\n	<li>Opening remarks</li>\n</ul>\n<u>Social Media</u>\n\n<ul>\n	<li>2 dedicated Instagram posts (1 in November\, 1 in December\; content developed collaboratively)</li>\n</ul>\n\n<hr /><br />\n<strong>Silver Sponsor &ndash\; $2\,500 (Limit 6)</strong><br />\nEnjoy the benefits of a full VIP table and exclusive access to the sponsors&rsquo\; VIP pre-event mixer&nbsp\;while elevating your company&rsquo\;s profile. Silver Sponsors receive professional photos and recognition across BIA&rsquo\;s&nbsp\; event promotions and marketing channels\, creating both an engaging guest experience and meaningful brand exposure.<br />\n<br />\n<strong>Sponsorship Benefits</strong><br />\n<br />\n<u>Seating &amp\; Experience</u>\n\n<ul>\n	<li>8 guest seats (full table\, $1\,000 value\, courtesy of Presenting Sponsor)</li>\n	<li>VIP escort to table</li>\n	<li>VIP pre-event mixer with refreshments and pupus</li>\n</ul>\n<u>Photography</u>\n\n<ul>\n	<li>Group photo at sponsor table</li>\n	<li>Group photo in front of Christmas tree</li>\n	<li>Digital copies provided for personal and social media use</li>\n</ul>\n<u>Visibility &amp\; Recognition</u><br />\nRecognition provided on:\n<ul>\n	<li>Table signage (branded table sign)</li>\n	<li>Event signage</li>\n	<li>Program announcements</li>\n	<li>BIA newsletter</li>\n	<li>Social media</li>\n	<li>Opening remarks</li>\n</ul>\n<u>Social Media</u>\n\n<ul>\n	<li>1 dedicated Instagram post (content developed collaboratively)</li>\n</ul>\n\n<hr /><br />\n<strong>Bronze Sponsor &ndash\; $1\,000 (Unlimited)</strong><br />\nSupport the event\, showcase your brand and receive reserved seating\, entry to the sponsors&#39\; VIP pre-event mixer\, and acknowledgement across BIA&#39\;s marketing channels\, making a Bronze sponsorship a cost-effective way to align your brand with Hawaii&#39\;s building industry leaders.<br />\n<br />\n<strong>Sponsorship Benefits</strong><br />\n<br />\n<u>Seating &amp\; Experience</u>\n\n<ul>\n	<li>4 guest seats (half table\, $500 value)</li>\n	<li>Volunteer escort to table</li>\n	<li>VIP pre-event mixer with refreshments and pupus</li>\n</ul>\n<u>Visibility &amp\; Recognition</u><br />\nRecognition provided in:\n<ul>\n	<li>Program announcements</li>\n	<li>BIA newsletter</li>\n	<li>Opening remarks</li>\n</ul>\n
LOCATION:Halekulani Hotel
UID:e.9314.887191
SEQUENCE:3
DTSTAMP:20260424T143209Z
URL:https://members.biahawaii.org/events/details/2026-bia-hawaii-installation-887191
END:VEVENT

END:VCALENDAR
